BEGIN:VCALENDAR
VERSION:2.0
PRODID:-//CiviCRM//NONSGML CiviEvent iCal//EN
X-WR-TIMEZONE:Europe/London
METHOD:PUBLISH
BEGIN:VTIMEZONE
TZID:Europe/London
BEGIN:STANDARD
TZOFFSETFROM:+0000
TZOFFSETTO:+0000
TZNAME:GMT
DTSTART:20261119T090000
END:STANDARD
END:VTIMEZONE
BEGIN:VEVENT
UID:CiviCRM_EventID_419_fa11dfe22b35674a6dcaac9b217567e3@www.adjudication.org
SUMMARY:ANNUAL CONFERENCE 2026
X-ALT-DESC;FMTTYPE=text/html:<!DOCTYPE HTML PUBLIC
  "-//W3C//DTD HTML 3.2//EN"><html><body><p><br />\
 n Registration fee:</p>\n \n <ul>\n 	<li>Members £
 250.00</li>\n 	<li>Non Members £275.00 </li>\n 	<l
 i>Full time Students  £100.00 (academic email addr
 ess required\, limited to first 14)</li>\n </ul>\n
  \n <p><a href="https://www.adjudication.org/about
 /conference-refunds-policy">Refunds policy</a></p>
 \n \n <p>Registration and breakfast from 9.00am <b
 r />\n First Session commences 9.35am<br />\n Conf
 erence Close 5.15pm followed by drinks and network
 ing till 7.15pm<br />\n Lunch and refreshments wil
 l be provided during the day.</p>\n \n <p>We have 
 not reserved  rooms but they available at reasonab
 le rates from the Holiday Inn direct.<br />\n http
 s://hibirmingham.co.uk/ </p></body></html>
DESCRIPTION:\n \n Registration fee:\n \n \n \n \n 	Members £25
 0.00\n 	Non Members £275.00 \n 	Full time Students
   £100.00 (academic email address required\, limit
 ed to first 14)\n \n \n Refunds policy (https://ww
 w.adjudication.org/about/conference-refunds-policy
 )\n \n \n \n Registration and breakfast from 9.00a
 m \n \n First Session commences 9.35am\n \n Confer
 ence Close 5.15pm followed by drinks and networkin
 g till 7.15pm\n \n Lunch and refreshments will be 
 provided during the day.\n \n \n \n We have not re
 served  rooms but they available at reasonable rat
 es from the Holiday Inn direct.\n \n https://hibir
 mingham.co.uk/ \n \n 
CATEGORIES:Conference
CALSCALE:GREGORIAN
DTSTAMP;TZID=Europe/London:20261119T090000
DTSTART;TZID=Europe/London:20261119T090000
DTEND;TZID=Europe/London:20261119T090000
LOCATION:The Birmingham Conference & Events Centre\n Hill S
 treet\n Birmingham\, B5 4EW\n United Kingdom\n 
URL:https://www.adjudication.org/civicrm/event/info?reset=1&id=419
END:VEVENT
END:VCALENDAR
